
BEGIN:VCALENDAR
VERSION:2.0
PRODID:-//August Hill Winery - ECPv6.15.20//NONSGML v1.0//EN
CALSCALE:GREGORIAN
METHOD:PUBLISH
X-WR-CALNAME:August Hill Winery
X-ORIGINAL-URL:https://augusthillwinery.com
X-WR-CALDESC:Events for August Hill Winery
REFRESH-INTERVAL;VALUE=DURATION:PT1H
X-Robots-Tag:noindex
X-PUBLISHED-TTL:PT1H
BEGIN:VTIMEZONE
TZID:America/Chicago
BEGIN:DAYLIGHT
TZOFFSETFROM:-0600
TZOFFSETTO:-0500
TZNAME:CDT
DTSTART:20230312T080000
END:DAYLIGHT
BEGIN:STANDARD
TZOFFSETFROM:-0500
TZOFFSETTO:-0600
TZNAME:CST
DTSTART:20231105T070000
END:STANDARD
BEGIN:DAYLIGHT
TZOFFSETFROM:-0600
TZOFFSETTO:-0500
TZNAME:CDT
DTSTART:20240310T080000
END:DAYLIGHT
BEGIN:STANDARD
TZOFFSETFROM:-0500
TZOFFSETTO:-0600
TZNAME:CST
DTSTART:20241103T070000
END:STANDARD
BEGIN:DAYLIGHT
TZOFFSETFROM:-0600
TZOFFSETTO:-0500
TZNAME:CDT
DTSTART:20250309T080000
END:DAYLIGHT
BEGIN:STANDARD
TZOFFSETFROM:-0500
TZOFFSETTO:-0600
TZNAME:CST
DTSTART:20251102T070000
END:STANDARD
END:VTIMEZONE
BEGIN:VEVENT
DTSTART;TZID=America/Chicago:20241102T153000
DTEND;TZID=America/Chicago:20241102T183000
DTSTAMP:20260423T001139
CREATED:20240306T173637Z
LAST-MODIFIED:20240306T173637Z
UID:10488-1730561400-1730572200@augusthillwinery.com
SUMMARY:Tasting Room Music - Nicole Montgomery & Joshua Allen
DESCRIPTION:Sip on your favorite August Hill & ISC wines as you enjoy live music by Nicole Montgomery & Joshua Allen.
URL:https://augusthillwinery.com/event/tasting-room-music-nicole-montgomery-joshua-allen/
LOCATION:AHW & ISC Tasting Room\, 106 Mill Street\, Utica\, IL\, 61373\, United States
END:VEVENT
BEGIN:VEVENT
DTSTART;TZID=America/Chicago:20241116T120000
DTEND;TZID=America/Chicago:20241116T150000
DTSTAMP:20260423T001139
CREATED:20231202T215520Z
LAST-MODIFIED:20241115T215412Z
UID:10169-1731758400-1731769200@augusthillwinery.com
SUMMARY:Binny's Bloomington Wine Tasting
DESCRIPTION:Join Us for Wine Tasting at Binny’s Bloomington! \nExperience the flavors of August Hill Winery at the “Weekend at Binny’s” event this Saturday\, November 16\, from 12-3 pm in Bloomington! We’ll be pouring a delightful lineup of our handcrafted wines\, including: \n🍷 Berlyn – A semi-dry red wine with vibrant fruit notes.\n🍎 Caramel Apple – A sweet apple wine with a luscious caramel finish.\n🍏 Emerald Apple – A semi-sweet\, shimmering green apple wine.\n🎭 Mardi Gras – A bubbling\, sweet Catawba wine.\n🌿 Seyval Blanc – A crisp\, fresh semi-dry white wine.\n🌞 Trapolino – A sweet red blend bursting with fruity flavors. \nStop by for a taste\, and let us help you find your new favorite!
URL:https://augusthillwinery.com/event/binnys-bloomington-wine-tasting-3/
LOCATION:Binny’s Bloomington\, 1409 N. Veterans Parkway\, Bloomington\, IL\, 61704
END:VEVENT
END:VCALENDAR