
BEGIN:VCALENDAR
VERSION:2.0
PRODID:-//August Hill Winery - ECPv6.15.20//NONSGML v1.0//EN
CALSCALE:GREGORIAN
METHOD:PUBLISH
X-ORIGINAL-URL:https://augusthillwinery.com
X-WR-CALDESC:Events for August Hill Winery
REFRESH-INTERVAL;VALUE=DURATION:PT1H
X-Robots-Tag:noindex
X-PUBLISHED-TTL:PT1H
BEGIN:VTIMEZONE
TZID:America/Chicago
BEGIN:DAYLIGHT
TZOFFSETFROM:-0600
TZOFFSETTO:-0500
TZNAME:CDT
DTSTART:20240310T080000
END:DAYLIGHT
BEGIN:STANDARD
TZOFFSETFROM:-0500
TZOFFSETTO:-0600
TZNAME:CST
DTSTART:20241103T070000
END:STANDARD
BEGIN:DAYLIGHT
TZOFFSETFROM:-0600
TZOFFSETTO:-0500
TZNAME:CDT
DTSTART:20250309T080000
END:DAYLIGHT
BEGIN:STANDARD
TZOFFSETFROM:-0500
TZOFFSETTO:-0600
TZNAME:CST
DTSTART:20251102T070000
END:STANDARD
BEGIN:DAYLIGHT
TZOFFSETFROM:-0600
TZOFFSETTO:-0500
TZNAME:CDT
DTSTART:20260308T080000
END:DAYLIGHT
BEGIN:STANDARD
TZOFFSETFROM:-0500
TZOFFSETTO:-0600
TZNAME:CST
DTSTART:20261101T070000
END:STANDARD
END:VTIMEZONE
BEGIN:VEVENT
DTSTART;TZID=America/Chicago:20251004T120000
DTEND;TZID=America/Chicago:20251004T170000
DTSTAMP:20260424T083337
CREATED:20220613T205906Z
LAST-MODIFIED:20250508T223617Z
UID:7880-1759579200-1759597200@augusthillwinery.com
SUMMARY:Wine on the Hill w/ Those 2 Guys + One
DESCRIPTION:Join us for “Wine on the Hill” at our August Hill & ISC winery and vineyard. Enjoy the beautiful outdoor scenery of the Illinois Valley\, and your favorite August Hill & ISC wines\, while hanging out on our spacious hillside. Wine flights\, wine by the bottle\, and a snack picnic box will all be available. \nHOURS/LOCATION: You can enjoy wine on the hillside on Saturday from 12-5 pm. This event is at our 21 N 2551st Rd.\, Peru\, IL vineyard & winery location (not at our Tasting Room in Utica).  You can find directions to get to our Peru location and FAQs on our Wine on the Hill page. \nMUSIC: Those 2 Guys + 1\, 1-4 pm [Classic Rock\, Country and Blues] \nRESERVATION TO RELAX: Want to enjoy Wine on the Hill\, with less work for you? Book your “Reservation to Relax” today\, and the August Hill team will prepare you a spot on the hill for your selected date. The reservation will be for the day (12-5 pm on Saturdays; 12-5 pm on Sundays). The space will include two adirondack chairs\, an umbrella for shade\, a 30 quart cooler with ice\, 2 bottled waters\, and a small variety of snacks. \nSIGN UP FOR A CAVE TASTING: We offer Cave Tastings hourly throughout the day. Sign up here!
URL:https://augusthillwinery.com/event/wine-on-the-hill-1007/
LOCATION:August Hill Winery & Vineyard\, 21 N 2551st Rd\, Peru\, IL\, 61354
END:VEVENT
BEGIN:VEVENT
DTSTART;TZID=America/Chicago:20251004T153000
DTEND;TZID=America/Chicago:20251004T183000
DTSTAMP:20260424T083337
CREATED:20240222T165725Z
LAST-MODIFIED:20250317T203835Z
UID:10465-1759591800-1759602600@augusthillwinery.com
SUMMARY:Tasting Room Music - John Piontek
DESCRIPTION:Sip on your favorite August Hill & ISC wines as you enjoy live music by John Piontek [classic rock]. \nThe Tasting Room is open from 11am-7pm; live music is from 3:30-6:30pm.
URL:https://augusthillwinery.com/event/tasting-room-music-joey-figgiani-8/
LOCATION:AHW & ISC Tasting Room\, 106 Mill Street\, Utica\, IL\, 61373\, United States
END:VEVENT
END:VCALENDAR