
BEGIN:VCALENDAR
VERSION:2.0
PRODID:-//August Hill Winery - ECPv6.15.20//NONSGML v1.0//EN
CALSCALE:GREGORIAN
METHOD:PUBLISH
X-ORIGINAL-URL:https://augusthillwinery.com
X-WR-CALDESC:Events for August Hill Winery
REFRESH-INTERVAL;VALUE=DURATION:PT1H
X-Robots-Tag:noindex
X-PUBLISHED-TTL:PT1H
BEGIN:VTIMEZONE
TZID:America/Chicago
BEGIN:DAYLIGHT
TZOFFSETFROM:-0600
TZOFFSETTO:-0500
TZNAME:CDT
DTSTART:20240310T080000
END:DAYLIGHT
BEGIN:STANDARD
TZOFFSETFROM:-0500
TZOFFSETTO:-0600
TZNAME:CST
DTSTART:20241103T070000
END:STANDARD
BEGIN:DAYLIGHT
TZOFFSETFROM:-0600
TZOFFSETTO:-0500
TZNAME:CDT
DTSTART:20250309T080000
END:DAYLIGHT
BEGIN:STANDARD
TZOFFSETFROM:-0500
TZOFFSETTO:-0600
TZNAME:CST
DTSTART:20251102T070000
END:STANDARD
BEGIN:DAYLIGHT
TZOFFSETFROM:-0600
TZOFFSETTO:-0500
TZNAME:CDT
DTSTART:20260308T080000
END:DAYLIGHT
BEGIN:STANDARD
TZOFFSETFROM:-0500
TZOFFSETTO:-0600
TZNAME:CST
DTSTART:20261101T070000
END:STANDARD
END:VTIMEZONE
BEGIN:VEVENT
DTSTART;VALUE=DATE:20250912
DTEND;VALUE=DATE:20250914
DTSTAMP:20260424T151024
CREATED:20211215T213830Z
LAST-MODIFIED:20250813T173632Z
UID:6985-1757635200-1757807999@augusthillwinery.com
SUMMARY:Insider's Wine Club Event
DESCRIPTION:Insider Wine Club members are invited to join us for Will Call Weekend! We will host the event at both of our locations\, with live music and a special treat for members. \n🍷 Friday & Saturday at the Tasting Room\, 106 Mill St.\, Utica\n\nFriday\, September 12\, 12:00pm-6:30pm; music by Jeff Manfredini\, 3:30pm-6:30pm\nSaturday\, September 13\, 12:00pm-6:30pm; music by Rob Simpson\, 3:30pm-6:30pm\nMembers receive a special treat\, a complimentary pairing for 2 people.\n\n🍷 Saturday at Wine on the Hill\, 21 N 2551st Rd\, Peru\n\nSaturday\, September 13\, 12-5 pm; live music from 1-4 pm. Please RSVP here if you are going to pick up your wine club order(s) at Wine on the Hill.\nLive music by Those 2 Guys + One from 1-4 pm.\nMembers receive a special treat\, a complimentary pairing for 2 people.\nReserve a spot for a Cave Tasting or Reservation to Relax during your visit.\nClick here for Wine on the Hill directions and info.\n\n  \nIf you are interested in learning more about the benefits of Wine Club Membership or if you would like to sign up to become a member\, click here.
URL:https://augusthillwinery.com/event/insiders-wine-club-event-4/
LOCATION:AHW & ISC Tasting Room\, 106 Mill Street\, Utica\, IL\, 61373\, United States
END:VEVENT
BEGIN:VEVENT
DTSTART;TZID=America/Chicago:20250912T113000
DTEND;TZID=America/Chicago:20250912T143000
DTSTAMP:20260424T151024
CREATED:20230310T150159Z
LAST-MODIFIED:20250414T122210Z
UID:9041-1757676600-1757687400@augusthillwinery.com
SUMMARY:Friday Lunch
DESCRIPTION:Join us for Lunch at the Tasting Room\, offered every Tuesday & Friday\, from 11:30 am – 2:30 pm. Enjoy a glass of wine of your choice and a choice of four different lunch options. $25 per person. \nRESERVE YOUR SPOT\n\nReservations are required at least 72 hours prior to your lunch.  Sign up at this link!\nTime slots are 11:30am\, 12:30pm\, and 1:30 pm.\nOnline sign-up limited to 6 people per time slot. If you have more than 6 people in your group\, please call the Tasting Room at 815-667-5211.\nIf you need to make changes to your reservation time\, please contact us at least 3 days prior to your reservation. Tickets are non-refundable.\n\nLUNCH CHOICES\n\nMushroom Panini: Sautéed Mushrooms\, Gruyere Cheese\, and Whole Grain Mustard on Focaccia bread; served with soup and Tiramisu for dessert.\nRoasted Tomatoes Panini: Roasted Tomatoes\, Mozzarella Cheese\, and Basil Pesto on Focaccia bread; served with soup and Tiramisu for dessert.\nSopressata Panini: Soppressata\, Gruyere Cheese\, and Caramelized Onion on Focaccia bread; served with soup and Tiramisu for dessert.\nCoppa Panini:  Coppa\, Chèvre Fraise cheese\, and Fig Jam on Foccacia Bread; served with soup and Tiramisu for dessert.
URL:https://augusthillwinery.com/event/friday-lunch-38/
LOCATION:AHW & ISC Tasting Room\, 106 Mill Street\, Utica\, IL\, 61373\, United States
END:VEVENT
BEGIN:VEVENT
DTSTART;TZID=America/Chicago:20250912T160000
DTEND;TZID=America/Chicago:20250912T220000
DTSTAMP:20260424T151024
CREATED:20170830T182720Z
LAST-MODIFIED:20250820T225358Z
UID:1073-1757692800-1757714400@augusthillwinery.com
SUMMARY:BBQ & Blues
DESCRIPTION:We are going to be pouring AHW & ISC wines at this two-day festival in LaSalle! BBQ & Blues is on Friday\, 4:00pm-10:00pm\, and Jazz ‘n the Street is on Saturday\, 3:30pm-10:30pm. \nBBQ & Blues features a rib cook-off\, BBQ vendors\, and plenty of amazing blues music. Visit the links above for music schedules and more info. \nHere are the wines we are pouring: ISC Brut\, Apple Infusion\, Emerald Apple\, Sweet William\, Strawberry Peach Sangria\, Norton\, Berlyn can\, Blanc can\, Mardi Gras can\, and Mimosa can.
URL:https://augusthillwinery.com/event/bbq-blues/
LOCATION:Downtown La Salle\, 600 First Street\, La Salle\, Illinois
ATTACH;FMTTYPE=image/png:https://augusthillwinery.com/wp-content/uploads/2017/08/bbq_n_blues_title-rgb.png
END:VEVENT
BEGIN:VEVENT
DTSTART;TZID=America/Chicago:20250912T180000
DTEND;TZID=America/Chicago:20250912T200000
DTSTAMP:20260424T151024
CREATED:20250812T202756Z
LAST-MODIFIED:20250902T220949Z
UID:13193-1757700000-1757707200@augusthillwinery.com
SUMMARY:Cheese in Concert in the Cave
DESCRIPTION:Join us in the winery caves for a truly unique sensory adventure — the harmonious pairing of specialty cheese\, wine\, and music! \nHere’s what is included with admission! \n\n7 delicious tasting plates of a great variety of specialty cheese\, charcuterie\, and accoutrements paired with 7 distinctive wines\nAn AHW signature glass\nA pairing guide for the event and for future use\nMoving concerts curated with each pairing on the big screen with great sound system. Taste and feel the vibe\nTrivia and raffle prizes\nCamaraderie from the shared sensory joyful experience.\n\nYour “cheese J” (cheese-and-music DJ) will guide you through a series of deliciously curated pairings\, matching artisan cheeses with August Hill & ISC wines and hand-selected concert videos for a full-sensory experience. Taste\, listen\, learn\, and enjoy as every bite\, sip\, and song comes together in perfect harmony. \nShow off your knowledge with trivia about cheese\, August Hill Winery\, and Illinois Sparkling Co.\, and music — winners take home fun prizes. Plus\, all guests are automatically entered in our raffle for a chance to win the grand prize: a Cheese in Concert guitar presentation board with cheese and wine tools inside. \nTickets: $55 for non-members | $50 for Wine Club members \nIt’s going to be a really gouda time! Order tickets here! \nPlease note: This event is held at our Winery location\, 21N 2551st Rd.\, Peru\, IL.
URL:https://augusthillwinery.com/event/cheese-in-concert-in-the-cave/
LOCATION:August Hill Winery & Vineyard\, 21 N 2551st Rd\, Peru\, IL\, 61354
END:VEVENT
END:VCALENDAR